Package: signifinder Version: 1.4.0 Command: rm -rf signifinder.buildbin-libdir && mkdir signifinder.buildbin-libdir && /Users/biocbuild/BBS/utils/build-universal.sh signifinder_1.4.0.tar.gz /Library/Frameworks/R.framework/Resources/bin/R signifinder.buildbin-libdir StartedAt: 2024-03-04 01:05:04 -0500 (Mon, 04 Mar 2024) EndedAt: 2024-03-04 01:06:27 -0500 (Mon, 04 Mar 2024) EllapsedTime: 83.1 seconds RetCode: 0 Status: OK PackageFile: signifinder_1.4.0.tgz PackageFileSize: 5.676 MiB