Package: similaRpeak Version: 1.34.0 Command: /Library/Frameworks/R.framework/Resources/bin/R CMD check --install=check:similaRpeak.install-out.txt --library=/Library/Frameworks/R.framework/Resources/library --no-vignettes --timings similaRpeak_1.34.0.tar.gz StartedAt: 2024-03-03 23:31:34 -0500 (Sun, 03 Mar 2024) EndedAt: 2024-03-03 23:32:05 -0500 (Sun, 03 Mar 2024) EllapsedTime: 30.6 seconds RetCode: 0 Status: OK CheckDir: similaRpeak.Rcheck Warnings: 0