Package: similaRpeak Version: 1.34.0 Command: /home/biocbuild/bbs-3.18-bioc/R/bin/R CMD check --install=check:similaRpeak.install-out.txt --library=/home/biocbuild/bbs-3.18-bioc/R/site-library --timings similaRpeak_1.34.0.tar.gz StartedAt: 2024-04-16 03:59:08 -0400 (Tue, 16 Apr 2024) EndedAt: 2024-04-16 03:59:52 -0400 (Tue, 16 Apr 2024) EllapsedTime: 44.3 seconds RetCode: 0 Status: OK CheckDir: similaRpeak.Rcheck Warnings: 0