Package: simona Version: 1.0.10 Command: /Library/Frameworks/R.framework/Resources/bin/R CMD build --keep-empty-dirs --no-resave-data simona StartedAt: 2024-03-03 18:21:23 -0500 (Sun, 03 Mar 2024) EndedAt: 2024-03-03 18:30:19 -0500 (Sun, 03 Mar 2024) EllapsedTime: 536.3 seconds RetCode: 0 Status: OK PackageFile: simona_1.0.10.tar.gz PackageFileSize: 7.239 MiB