Package: simona Version: 1.0.10 Command: /Library/Frameworks/R.framework/Resources/bin/R CMD INSTALL simona StartedAt: 2024-03-03 15:27:00 -0500 (Sun, 03 Mar 2024) EndedAt: 2024-03-03 15:28:38 -0500 (Sun, 03 Mar 2024) EllapsedTime: 98.8 seconds RetCode: 0 Status: OK