Package: simona Version: 1.0.10 Command: rm -rf simona.buildbin-libdir && mkdir simona.buildbin-libdir && /Users/biocbuild/BBS/utils/build-universal.sh simona_1.0.10.tar.gz /Library/Frameworks/R.framework/Resources/bin/R simona.buildbin-libdir StartedAt: 2024-04-16 12:45:16 -0400 (Tue, 16 Apr 2024) EndedAt: 2024-04-16 12:48:23 -0400 (Tue, 16 Apr 2024) EllapsedTime: 186.7 seconds RetCode: 0 Status: OK PackageFile: simona_1.0.10.tgz PackageFileSize: 7.984 MiB