Package: simona Version: 1.0.10 Command: /Library/Frameworks/R.framework/Resources/bin/R CMD build --keep-empty-dirs --no-resave-data simona StartedAt: 2024-04-15 22:01:34 -0400 (Mon, 15 Apr 2024) EndedAt: 2024-04-15 22:16:51 -0400 (Mon, 15 Apr 2024) EllapsedTime: 917.5 seconds RetCode: 0 Status: OK PackageFile: simona_1.0.10.tar.gz PackageFileSize: 7.113 MiB