Package: simona Version: 1.0.10 Command: /Library/Frameworks/R.framework/Resources/bin/R CMD check --install=check:simona.install-out.txt --library=/Library/Frameworks/R.framework/Resources/library --no-vignettes --timings simona_1.0.10.tar.gz StartedAt: 2024-04-16 09:00:23 -0400 (Tue, 16 Apr 2024) EndedAt: 2024-04-16 09:04:59 -0400 (Tue, 16 Apr 2024) EllapsedTime: 275.4 seconds RetCode: 0 Status: OK CheckDir: simona.Rcheck Warnings: 0