Package: simona Version: 1.0.10 Command: /home/biocbuild/bbs-3.18-bioc/R/bin/R CMD build --keep-empty-dirs --no-resave-data simona StartedAt: 2024-04-15 19:16:55 -0400 (Mon, 15 Apr 2024) EndedAt: 2024-04-15 19:23:21 -0400 (Mon, 15 Apr 2024) EllapsedTime: 385.9 seconds RetCode: 0 Status: OK PackageFile: simona_1.0.10.tar.gz PackageFileSize: 7.053 MiB