Package: simona Version: 1.0.10 Command: rm -rf simona.buildbin-libdir && mkdir simona.buildbin-libdir && F:\biocbuild\bbs-3.18-bioc\R\bin\R.exe CMD INSTALL --build --library=simona.buildbin-libdir simona_1.0.10.tar.gz StartedAt: 2024-04-16 07:42:14 -0400 (Tue, 16 Apr 2024) EndedAt: 2024-04-16 07:44:25 -0400 (Tue, 16 Apr 2024) EllapsedTime: 130.4 seconds RetCode: 0 Status: OK PackageFile: simona_1.0.10.zip PackageFileSize: 8.228 MiB