Package: simpleSeg Version: 1.4.1 Command: rm -rf simpleSeg.buildbin-libdir && mkdir simpleSeg.buildbin-libdir && F:\biocbuild\bbs-3.18-bioc\R\bin\R.exe CMD INSTALL --build --library=simpleSeg.buildbin-libdir simpleSeg_1.4.1.tar.gz StartedAt: 2024-04-09 07:48:11 -0400 (Tue, 09 Apr 2024) EndedAt: 2024-04-09 07:49:13 -0400 (Tue, 09 Apr 2024) EllapsedTime: 61.7 seconds RetCode: 0 Status: OK PackageFile: simpleSeg_1.4.1.zip PackageFileSize: 4.413 MiB