Package: simpleSeg Version: 1.4.2 Command: F:\biocbuild\bbs-3.18-bioc\R\bin\R.exe CMD INSTALL simpleSeg StartedAt: 2024-04-15 16:22:28 -0400 (Mon, 15 Apr 2024) EndedAt: 2024-04-15 16:23:26 -0400 (Mon, 15 Apr 2024) EllapsedTime: 58.6 seconds RetCode: 0 Status: OK