Package: singscore Version: 1.22.0 Maintainer: Malvika Kharbanda MaintainerEmail: kharbanda.m at wehi.edu.au git_url: https://git.bioconductor.org/packages/singscore git_branch: RELEASE_3_18 git_last_commit: 1941ad8 git_last_commit_date: 2023-10-24 11:05:18 -0400 (Tue, 24 Oct 2023)