Package: singscore Version: 1.22.0 Command: chmod a+r singscore -R && F:\biocbuild\bbs-3.18-bioc\R\bin\R.exe CMD build --keep-empty-dirs --no-resave-data singscore StartedAt: 2024-04-15 21:14:46 -0400 (Mon, 15 Apr 2024) EndedAt: 2024-04-15 21:17:50 -0400 (Mon, 15 Apr 2024) EllapsedTime: 183.7 seconds RetCode: 0 Status: OK PackageFile: singscore_1.22.0.tar.gz PackageFileSize: 2.384 MiB