Package: sitePath Version: 1.18.0 Command: /home/biocbuild/bbs-3.18-bioc/R/bin/R CMD build --keep-empty-dirs --no-resave-data sitePath StartedAt: 2024-04-15 19:18:36 -0400 (Mon, 15 Apr 2024) EndedAt: 2024-04-15 19:19:40 -0400 (Mon, 15 Apr 2024) EllapsedTime: 63.4 seconds RetCode: 0 Status: OK PackageFile: sitePath_1.18.0.tar.gz PackageFileSize: 1.145 MiB