Package: snapCGH Version: 1.72.0 Command: F:\biocbuild\bbs-3.18-bioc\R\bin\R.exe CMD check --no-multiarch --install=check:snapCGH.install-out.txt --library=F:\biocbuild\bbs-3.18-bioc\R\library --no-vignettes --timings snapCGH_1.72.0.tar.gz StartedAt: 2024-04-16 05:17:04 -0400 (Tue, 16 Apr 2024) EndedAt: 2024-04-16 05:20:01 -0400 (Tue, 16 Apr 2024) EllapsedTime: 177.0 seconds RetCode: 0 Status: WARNINGS CheckDir: snapCGH.Rcheck Warnings: 1