Package: snm Version: 1.50.0 Command: /home/biocbuild/R/R-4.3.1/bin/R CMD INSTALL snm StartedAt: 2023-11-01 20:41:52 -0000 (Wed, 01 Nov 2023) EndedAt: 2023-11-01 20:42:01 -0000 (Wed, 01 Nov 2023) EllapsedTime: 9.6 seconds RetCode: 0 Status: OK