Package: snm Version: 1.50.0 Command: /Library/Frameworks/R.framework/Resources/bin/R CMD build --keep-empty-dirs --no-resave-data snm StartedAt: 2024-03-03 18:23:59 -0500 (Sun, 03 Mar 2024) EndedAt: 2024-03-03 18:26:15 -0500 (Sun, 03 Mar 2024) EllapsedTime: 135.9 seconds RetCode: 0 Status: OK PackageFile: snm_1.50.0.tar.gz PackageFileSize: 726.7 KiB