Package: snm Version: 1.50.0 Command: /Library/Frameworks/R.framework/Resources/bin/R CMD check --install=check:snm.install-out.txt --library=/Library/Frameworks/R.framework/Resources/library --no-vignettes --timings snm_1.50.0.tar.gz StartedAt: 2024-03-03 23:35:18 -0500 (Sun, 03 Mar 2024) EndedAt: 2024-03-03 23:40:55 -0500 (Sun, 03 Mar 2024) EllapsedTime: 336.2 seconds RetCode: 0 Status: OK CheckDir: snm.Rcheck Warnings: 0