Package: snm Version: 1.50.0 Command: /Library/Frameworks/R.framework/Resources/bin/R CMD build --keep-empty-dirs --no-resave-data snm StartedAt: 2024-04-15 22:09:47 -0400 (Mon, 15 Apr 2024) EndedAt: 2024-04-15 22:13:11 -0400 (Mon, 15 Apr 2024) EllapsedTime: 204.1 seconds RetCode: 0 Status: OK PackageFile: snm_1.50.0.tar.gz PackageFileSize: 727.8 KiB