Package: snpStats Version: 1.52.0 Command: /home/biocbuild/R/R-4.3.1/bin/R CMD build --keep-empty-dirs --no-resave-data snpStats StartedAt: 2023-11-02 06:32:51 -0000 (Thu, 02 Nov 2023) EndedAt: 2023-11-02 06:34:04 -0000 (Thu, 02 Nov 2023) EllapsedTime: 73.1 seconds RetCode: 0 Status: OK PackageFile: snpStats_1.52.0.tar.gz PackageFileSize: 7.652 MiB