Package: snpStats Version: 1.52.0 Command: /home/biocbuild/R/R-4.3.1/bin/R CMD INSTALL snpStats StartedAt: 2023-11-01 20:49:12 -0000 (Wed, 01 Nov 2023) EndedAt: 2023-11-01 20:49:37 -0000 (Wed, 01 Nov 2023) EllapsedTime: 25.1 seconds RetCode: 0 Status: OK