Package: snpStats Version: 1.52.0 Command: rm -rf snpStats.buildbin-libdir && mkdir snpStats.buildbin-libdir && /Users/biocbuild/BBS/utils/build-universal.sh snpStats_1.52.0.tar.gz /Library/Frameworks/R.framework/Resources/bin/R snpStats.buildbin-libdir StartedAt: 2024-03-04 01:05:53 -0500 (Mon, 04 Mar 2024) EndedAt: 2024-03-04 01:06:25 -0500 (Mon, 04 Mar 2024) EllapsedTime: 31.8 seconds RetCode: 0 Status: OK PackageFile: snpStats_1.52.0.tgz PackageFileSize: 8.521 MiB