Package: snpStats Version: 1.52.0 Command: /Library/Frameworks/R.framework/Resources/bin/R CMD build --keep-empty-dirs --no-resave-data snpStats StartedAt: 2024-03-03 18:24:17 -0500 (Sun, 03 Mar 2024) EndedAt: 2024-03-03 18:25:59 -0500 (Sun, 03 Mar 2024) EllapsedTime: 101.7 seconds RetCode: 0 Status: OK PackageFile: snpStats_1.52.0.tar.gz PackageFileSize: 7.734 MiB