Package: snpStats Version: 1.52.0 Command: /Library/Frameworks/R.framework/Resources/bin/R CMD check --install=check:snpStats.install-out.txt --library=/Library/Frameworks/R.framework/Resources/library --no-vignettes --timings snpStats_1.52.0.tar.gz StartedAt: 2024-03-03 23:35:54 -0500 (Sun, 03 Mar 2024) EndedAt: 2024-03-03 23:37:20 -0500 (Sun, 03 Mar 2024) EllapsedTime: 85.5 seconds RetCode: 0 Status: WARNINGS CheckDir: snpStats.Rcheck Warnings: 2