Package: snpStats Version: 1.52.0 Command: /Library/Frameworks/R.framework/Resources/bin/R CMD INSTALL snpStats StartedAt: 2024-03-03 15:35:20 -0500 (Sun, 03 Mar 2024) EndedAt: 2024-03-03 15:35:47 -0500 (Sun, 03 Mar 2024) EllapsedTime: 26.5 seconds RetCode: 0 Status: OK