Package: snpStats Version: 1.52.0 Command: /Library/Frameworks/R.framework/Resources/bin/R CMD check --install=check:snpStats.install-out.txt --library=/Library/Frameworks/R.framework/Resources/library --no-vignettes --timings snpStats_1.52.0.tar.gz StartedAt: 2024-04-16 09:09:35 -0400 (Tue, 16 Apr 2024) EndedAt: 2024-04-16 09:12:22 -0400 (Tue, 16 Apr 2024) EllapsedTime: 167.6 seconds RetCode: 0 Status: WARNINGS CheckDir: snpStats.Rcheck Warnings: 2