Package: snpStats Version: 1.52.0 Command: /Library/Frameworks/R.framework/Resources/bin/R CMD INSTALL snpStats StartedAt: 2024-04-15 16:16:33 -0400 (Mon, 15 Apr 2024) EndedAt: 2024-04-15 16:17:11 -0400 (Mon, 15 Apr 2024) EllapsedTime: 38.7 seconds RetCode: 0 Status: OK