Package: sparrow Version: 1.8.0 Command: rm -rf sparrow.buildbin-libdir && mkdir sparrow.buildbin-libdir && /Users/biocbuild/BBS/utils/build-universal.sh sparrow_1.8.0.tar.gz /Library/Frameworks/R.framework/Resources/bin/R sparrow.buildbin-libdir StartedAt: 2024-03-04 01:06:02 -0500 (Mon, 04 Mar 2024) EndedAt: 2024-03-04 01:06:51 -0500 (Mon, 04 Mar 2024) EllapsedTime: 49.0 seconds RetCode: 0 Status: OK PackageFile: sparrow_1.8.0.tgz PackageFileSize: 4.497 MiB