Package: sparrow Version: 1.8.0 Command: /Library/Frameworks/R.framework/Resources/bin/R CMD build --keep-empty-dirs --no-resave-data sparrow StartedAt: 2024-03-03 18:24:44 -0500 (Sun, 03 Mar 2024) EndedAt: 2024-03-03 18:28:08 -0500 (Sun, 03 Mar 2024) EllapsedTime: 203.4 seconds RetCode: 0 Status: OK PackageFile: sparrow_1.8.0.tar.gz PackageFileSize: 4.079 MiB