Package: sparrow Version: 1.8.0 Command: /Library/Frameworks/R.framework/Resources/bin/R CMD check --install=check:sparrow.install-out.txt --library=/Library/Frameworks/R.framework/Resources/library --no-vignettes --timings sparrow_1.8.0.tar.gz StartedAt: 2024-03-03 23:37:20 -0500 (Sun, 03 Mar 2024) EndedAt: 2024-03-03 23:47:45 -0500 (Sun, 03 Mar 2024) EllapsedTime: 624.8 seconds RetCode: 0 Status: OK CheckDir: sparrow.Rcheck Warnings: 0