Package: sparrow Version: 1.8.0 Command: /home/biocbuild/bbs-3.18-bioc/R/bin/R CMD build --keep-empty-dirs --no-resave-data sparrow StartedAt: 2024-04-15 19:20:52 -0400 (Mon, 15 Apr 2024) EndedAt: 2024-04-15 19:23:54 -0400 (Mon, 15 Apr 2024) EllapsedTime: 182.3 seconds RetCode: 0 Status: OK PackageFile: sparrow_1.8.0.tar.gz PackageFileSize: 4.049 MiB