Package: sparrow Version: 1.8.0 Command: /home/biocbuild/bbs-3.18-bioc/R/bin/R CMD INSTALL sparrow StartedAt: 2024-04-15 15:31:15 -0400 (Mon, 15 Apr 2024) EndedAt: 2024-04-15 15:31:46 -0400 (Mon, 15 Apr 2024) EllapsedTime: 30.9 seconds RetCode: 0 Status: OK