Package: speckle Version: 1.2.0 Command: /Library/Frameworks/R.framework/Resources/bin/R CMD build --keep-empty-dirs --no-resave-data speckle StartedAt: 2024-04-15 22:14:14 -0400 (Mon, 15 Apr 2024) EndedAt: 2024-04-15 22:17:05 -0400 (Mon, 15 Apr 2024) EllapsedTime: 170.9 seconds RetCode: 0 Status: OK PackageFile: speckle_1.2.0.tar.gz PackageFileSize: 1.393 MiB