Package: spicyR Version: 1.14.3 Command: /Library/Frameworks/R.framework/Resources/bin/R CMD check --install=check:spicyR.install-out.txt --library=/Library/Frameworks/R.framework/Resources/library --no-vignettes --timings spicyR_1.14.3.tar.gz StartedAt: 2024-03-03 23:40:13 -0500 (Sun, 03 Mar 2024) EndedAt: 2024-03-03 23:46:20 -0500 (Sun, 03 Mar 2024) EllapsedTime: 366.9 seconds RetCode: 0 Status: OK CheckDir: spicyR.Rcheck Warnings: 0