Package: ssviz Version: 1.36.0 Command: rm -rf ssviz.buildbin-libdir && mkdir ssviz.buildbin-libdir && F:\biocbuild\bbs-3.18-bioc\R\bin\R.exe CMD INSTALL --build --library=ssviz.buildbin-libdir ssviz_1.36.0.tar.gz StartedAt: 2024-04-16 07:45:38 -0400 (Tue, 16 Apr 2024) EndedAt: 2024-04-16 07:46:00 -0400 (Tue, 16 Apr 2024) EllapsedTime: 22.2 seconds RetCode: 0 Status: OK PackageFile: ssviz_1.36.0.zip PackageFileSize: 975.4 KiB