Package: standR Version: 1.6.0 Command: /Library/Frameworks/R.framework/Resources/bin/R CMD build --keep-empty-dirs --no-resave-data standR StartedAt: 2024-03-03 18:29:56 -0500 (Sun, 03 Mar 2024) EndedAt: 2024-03-03 18:31:49 -0500 (Sun, 03 Mar 2024) EllapsedTime: 113.8 seconds RetCode: 0 Status: OK PackageFile: standR_1.6.0.tar.gz PackageFileSize: 2.429 MiB