Package: stepNorm Version: 1.74.0 Command: rm -rf stepNorm.buildbin-libdir && mkdir stepNorm.buildbin-libdir && /Users/biocbuild/BBS/utils/build-universal.sh stepNorm_1.74.0.tar.gz /Library/Frameworks/R.framework/Resources/bin/R stepNorm.buildbin-libdir StartedAt: 2024-03-04 01:07:19 -0500 (Mon, 04 Mar 2024) EndedAt: 2024-03-04 01:07:26 -0500 (Mon, 04 Mar 2024) EllapsedTime: 6.7 seconds RetCode: 0 Status: OK PackageFile: stepNorm_1.74.0.tgz PackageFileSize: 551.2 KiB