Package: stepNorm Version: 1.74.0 Command: /Library/Frameworks/R.framework/Resources/bin/R CMD build --keep-empty-dirs --no-resave-data stepNorm StartedAt: 2024-03-03 18:30:28 -0500 (Sun, 03 Mar 2024) EndedAt: 2024-03-03 18:30:29 -0500 (Sun, 03 Mar 2024) EllapsedTime: 1.1 seconds RetCode: 0 Status: OK PackageFile: stepNorm_1.74.0.tar.gz PackageFileSize: 460.2 KiB