Package: stepNorm Version: 1.74.0 Command: /Library/Frameworks/R.framework/Resources/bin/R CMD build --keep-empty-dirs --no-resave-data stepNorm StartedAt: 2024-04-15 22:22:49 -0400 (Mon, 15 Apr 2024) EndedAt: 2024-04-15 22:22:51 -0400 (Mon, 15 Apr 2024) EllapsedTime: 2.2 seconds RetCode: 0 Status: OK PackageFile: stepNorm_1.74.0.tar.gz PackageFileSize: 460.2 KiB