Package: stepNorm Version: 1.74.0 Command: /home/biocbuild/bbs-3.18-bioc/R/bin/R CMD check --install=check:stepNorm.install-out.txt --library=/home/biocbuild/bbs-3.18-bioc/R/site-library --timings stepNorm_1.74.0.tar.gz StartedAt: 2024-04-16 04:28:53 -0400 (Tue, 16 Apr 2024) EndedAt: 2024-04-16 04:29:59 -0400 (Tue, 16 Apr 2024) EllapsedTime: 66.0 seconds RetCode: 0 Status: OK CheckDir: stepNorm.Rcheck Warnings: 0