Package: supersigs Version: 1.10.0 Command: chmod a+r supersigs -R && F:\biocbuild\bbs-3.18-bioc\R\bin\R.exe CMD build --keep-empty-dirs --no-resave-data supersigs StartedAt: 2024-04-15 21:34:16 -0400 (Mon, 15 Apr 2024) EndedAt: 2024-04-15 21:35:26 -0400 (Mon, 15 Apr 2024) EllapsedTime: 70.4 seconds RetCode: 0 Status: OK PackageFile: supersigs_1.10.0.tar.gz PackageFileSize: 2.587 MiB