Package: supraHex Version: 1.40.0 Command: /home/biocbuild/R/R-4.3.1/bin/R CMD build --keep-empty-dirs --no-resave-data supraHex StartedAt: 2023-11-02 06:52:10 -0000 (Thu, 02 Nov 2023) EndedAt: 2023-11-02 06:52:33 -0000 (Thu, 02 Nov 2023) EllapsedTime: 23.0 seconds RetCode: 0 Status: OK PackageFile: supraHex_1.40.0.tar.gz PackageFileSize: 5.135 MiB