Package: supraHex Version: 1.40.0 Command: rm -rf supraHex.buildbin-libdir && mkdir supraHex.buildbin-libdir && F:\biocbuild\bbs-3.18-bioc\R\bin\R.exe CMD INSTALL --build --library=supraHex.buildbin-libdir supraHex_1.40.0.tar.gz StartedAt: 2024-04-16 07:46:22 -0400 (Tue, 16 Apr 2024) EndedAt: 2024-04-16 07:46:35 -0400 (Tue, 16 Apr 2024) EllapsedTime: 13.3 seconds RetCode: 0 Status: OK PackageFile: supraHex_1.40.0.zip PackageFileSize: 3.487 MiB