Package: supraHex Version: 1.40.0 Command: chmod a+r supraHex -R && F:\biocbuild\bbs-3.18-bioc\R\bin\R.exe CMD build --keep-empty-dirs --no-resave-data supraHex StartedAt: 2024-04-15 21:34:20 -0400 (Mon, 15 Apr 2024) EndedAt: 2024-04-15 21:34:47 -0400 (Mon, 15 Apr 2024) EllapsedTime: 26.2 seconds RetCode: 0 Status: OK PackageFile: supraHex_1.40.0.tar.gz PackageFileSize: 4.842 MiB