Package: survtype Version: 1.18.0 Maintainer: Dongmin Jung MaintainerEmail: dmdmjung at gmail.com git_url: https://git.bioconductor.org/packages/survtype git_branch: RELEASE_3_18 git_last_commit: e569369 git_last_commit_date: 2023-10-24 11:12:30 -0400 (Tue, 24 Oct 2023)