Package: svaNUMT Version: 1.8.0 Command: /home/biocbuild/R/R-4.3.1/bin/R CMD check --install=check:svaNUMT.install-out.txt --library=/home/biocbuild/R/R-4.3.1/site-library --no-vignettes --timings svaNUMT_1.8.0.tar.gz StartedAt: 2023-11-02 14:44:47 -0000 (Thu, 02 Nov 2023) EndedAt: 2023-11-02 14:51:31 -0000 (Thu, 02 Nov 2023) EllapsedTime: 403.7 seconds RetCode: 0 Status: OK CheckDir: svaNUMT.Rcheck Warnings: 0