Package: svaNUMT Version: 1.8.0 Command: /home/biocbuild/R/R-4.3.1/bin/R CMD INSTALL svaNUMT StartedAt: 2023-11-01 20:30:33 -0000 (Wed, 01 Nov 2023) EndedAt: 2023-11-01 20:31:29 -0000 (Wed, 01 Nov 2023) EllapsedTime: 56.2 seconds RetCode: 0 Status: OK