Package: svaNUMT Version: 1.8.0 Command: rm -rf svaNUMT.buildbin-libdir && mkdir svaNUMT.buildbin-libdir && /Users/biocbuild/BBS/utils/build-universal.sh svaNUMT_1.8.0.tar.gz /Library/Frameworks/R.framework/Resources/bin/R svaNUMT.buildbin-libdir StartedAt: 2024-04-16 12:50:24 -0400 (Tue, 16 Apr 2024) EndedAt: 2024-04-16 12:51:50 -0400 (Tue, 16 Apr 2024) EllapsedTime: 86.1 seconds RetCode: 0 Status: OK PackageFile: svaNUMT_1.8.0.tgz PackageFileSize: 756.2 KiB