Package: svaNUMT Version: 1.8.0 Command: /Library/Frameworks/R.framework/Resources/bin/R CMD build --keep-empty-dirs --no-resave-data svaNUMT StartedAt: 2024-04-15 22:26:18 -0400 (Mon, 15 Apr 2024) EndedAt: 2024-04-15 22:28:56 -0400 (Mon, 15 Apr 2024) EllapsedTime: 158.0 seconds RetCode: 0 Status: OK PackageFile: svaNUMT_1.8.0.tar.gz PackageFileSize: 818.1 KiB